git_url: https://git.bioconductor.org/packages/tartare git_branch: RELEASE_3_14 git_last_commit: 4a2dabe git_last_commit_date: 2021-10-26 12:37:15 -0400 (Tue, 26 Oct 2021) Package: tartare Version: 1.8.0 Maintainer: Christian Panse MaintainerEmail: cp at fgcz.ethz.ch