Package: scATAC.Explorer Version: 1.0.1 Command: /home/biocbuild/bbs-3.14-bioc/R/bin/R CMD build --keep-empty-dirs --no-resave-data scATAC.Explorer StartedAt: 2022-04-13 10:40:21 -0400 (Wed, 13 Apr 2022) EndedAt: 2022-04-13 10:40:53 -0400 (Wed, 13 Apr 2022) EllapsedTime: 31.3 seconds RetCode: 0 Status: OK PackageFile: scATAC.Explorer_1.0.1.tar.gz PackageFileSize: 245.8 KiB