git_url: https://git.bioconductor.org/packages/pasilla git_branch: RELEASE_3_14 git_last_commit: ff63025 git_last_commit_date: 2021-10-26 11:46:57 -0400 (Tue, 26 Oct 2021) Package: pasilla Version: 1.22.0 Maintainer: Alejandro Reyes MaintainerEmail: alejandro.reyes.ds at gmail.com