git_url: https://git.bioconductor.org/packages/miRcompData git_branch: RELEASE_3_14 git_last_commit: 648f695 git_last_commit_date: 2021-10-26 12:17:29 -0400 (Tue, 26 Oct 2021) Package: miRcompData Version: 1.24.0 Maintainer: Matthew N. McCall MaintainerEmail: mccallm at gmail.com