git_url: https://git.bioconductor.org/packages/grndata git_branch: RELEASE_3_14 git_last_commit: 14fe66c git_last_commit_date: 2021-10-26 12:12:54 -0400 (Tue, 26 Oct 2021) Package: grndata Version: 1.26.0 Maintainer: Pau Bellot MaintainerEmail: pau.bellot at upc.edu