git_url: https://git.bioconductor.org/packages/WES.1KG.WUGSC git_branch: RELEASE_3_14 git_last_commit: be01e0c git_last_commit_date: 2021-10-26 12:11:57 -0400 (Tue, 26 Oct 2021) Package: WES.1KG.WUGSC Version: 1.26.0 Maintainer: Yuchao Jiang MaintainerEmail: yuchaoj at wharton.upenn.edu