Package: TCGAMethylation450k Version: 1.30.0 Command: /home/biocbuild/bbs-3.14-bioc/R/bin/R CMD build --keep-empty-dirs --no-resave-data TCGAMethylation450k StartedAt: 2022-04-13 10:44:29 -0400 (Wed, 13 Apr 2022) EndedAt: 2022-04-13 10:44:44 -0400 (Wed, 13 Apr 2022) EllapsedTime: 15.1 seconds RetCode: 0 Status: OK PackageFile: TCGAMethylation450k_1.30.0.tar.gz PackageFileSize: 81.02 MiB