Package: SCLCBam Version: 1.26.0 Command: /home/biocbuild/bbs-3.14-bioc/R/bin/R CMD check --install=check:SCLCBam.install-out.txt --library=/home/biocbuild/bbs-3.14-bioc/R/library --no-vignettes --timings SCLCBam_1.26.0.tar.gz StartedAt: 2022-04-13 11:47:55 -0400 (Wed, 13 Apr 2022) EndedAt: 2022-04-13 11:48:08 -0400 (Wed, 13 Apr 2022) EllapsedTime: 12.8 seconds RetCode: 0 Status: OK CheckDir: SCLCBam.Rcheck Warnings: 0