git_url: https://git.bioconductor.org/packages/SCLCBam git_branch: RELEASE_3_14 git_last_commit: 074af65 git_last_commit_date: 2021-10-26 12:14:26 -0400 (Tue, 26 Oct 2021) Package: SCLCBam Version: 1.26.0 Maintainer: Oscar Krijgsman MaintainerEmail: o.krijgsman at nki.nl