git_url: https://git.bioconductor.org/packages/RTCGA.clinical git_branch: RELEASE_3_14 git_last_commit: c5b6e70 git_last_commit_date: 2021-10-26 12:15:50 -0400 (Tue, 26 Oct 2021) Package: RTCGA.clinical Version: 20151101.24.0 Maintainer: Marcin Kosinski MaintainerEmail: m.p.kosinski at gmail.com