git_url: https://git.bioconductor.org/packages/MAQCsubset git_branch: RELEASE_3_14 git_last_commit: 71dcb2c git_last_commit_date: 2021-10-26 11:40:44 -0400 (Tue, 26 Oct 2021) Package: MAQCsubset Version: 1.32.0 Maintainer: VJ Carey MaintainerEmail: stvjc at channing.harvard.edu