Package: Iyer517 Version: 1.36.0 Command: /home/biocbuild/bbs-3.14-bioc/R/bin/R CMD build --keep-empty-dirs --no-resave-data Iyer517 StartedAt: 2022-04-13 10:30:22 -0400 (Wed, 13 Apr 2022) EndedAt: 2022-04-13 10:30:28 -0400 (Wed, 13 Apr 2022) EllapsedTime: 5.0 seconds RetCode: 0 Status: OK PackageFile: Iyer517_1.36.0.tar.gz PackageFileSize: 248.1 KiB