git_url: https://git.bioconductor.org/packages/ITALICSData git_branch: RELEASE_3_14 git_last_commit: e1fa105 git_last_commit_date: 2021-10-26 11:44:21 -0400 (Tue, 26 Oct 2021) Package: ITALICSData Version: 2.32.0 Maintainer: Guillem Rigaill MaintainerEmail: italics at curie.fr