git_url: https://git.bioconductor.org/packages/FlowSorted.CordBlood.450k git_branch: RELEASE_3_14 git_last_commit: 7a20b17 git_last_commit_date: 2021-10-26 12:21:47 -0400 (Tue, 26 Oct 2021) Package: FlowSorted.CordBlood.450k Version: 1.22.0 Maintainer: Shan V. Andrews MaintainerEmail: sandre17 at jhu.edu