git_url: https://git.bioconductor.org/packages/EGSEAdata git_branch: RELEASE_3_14 git_last_commit: 8f4184a git_last_commit_date: 2021-10-26 12:23:39 -0400 (Tue, 26 Oct 2021) Package: EGSEAdata Version: 1.22.0 Maintainer: Monther Alhamdoosh MaintainerEmail: m.hamdoosh at gmail.com