Package: COHCAPanno Version: 1.30.0 Command: /home/biocbuild/bbs-3.14-bioc/R/bin/R CMD build --keep-empty-dirs --no-resave-data COHCAPanno StartedAt: 2022-04-13 10:16:16 -0400 (Wed, 13 Apr 2022) EndedAt: 2022-04-13 10:16:21 -0400 (Wed, 13 Apr 2022) EllapsedTime: 5.0 seconds RetCode: 0 Status: OK PackageFile: COHCAPanno_1.30.0.tar.gz PackageFileSize: 9.308 MiB