Package: rhdf5 Version: 2.38.1 Command: chmod a+r rhdf5 -R && D:\biocbuild\bbs-3.14-bioc\R\bin\R.exe CMD build --keep-empty-dirs --no-resave-data --no-build-vignettes --no-manual rhdf5 StartedAt: 2022-04-09 08:02:48 -0400 (Sat, 09 Apr 2022) EndedAt: 2022-04-09 08:03:56 -0400 (Sat, 09 Apr 2022) EllapsedTime: 68.5 seconds RetCode: 0 Status: OK PackageFile: rhdf5_2.38.1.tar.gz PackageFileSize: 383.6 KiB