Package: rhdf5 Version: 2.38.1 Command: /home/biocbuild/bbs-3.14-bioc/R/bin/R CMD check --test-dir=longtests --no-stop-on-test-error --no-codoc --no-examples --no-manual --ignore-vignettes --check-subdirs=no rhdf5_2.38.1.tar.gz StartedAt: 2022-04-09 08:21:21 -0400 (Sat, 09 Apr 2022) EndedAt: 2022-04-09 08:22:25 -0400 (Sat, 09 Apr 2022) EllapsedTime: 64.1 seconds RetCode: 0 Status: OK CheckDir: rhdf5.Rcheck Warnings: 0