Package: midasHLA Version: 1.2.0 Command: /Library/Frameworks/R.framework/Resources/bin/R CMD check --test-dir=longtests --no-stop-on-test-error --no-codoc --no-examples --no-manual --ignore-vignettes --check-subdirs=no midasHLA_1.2.0.tar.gz StartedAt: 2022-04-09 08:18:02 -0400 (Sat, 09 Apr 2022) EndedAt: 2022-04-09 08:20:44 -0400 (Sat, 09 Apr 2022) EllapsedTime: 162.0 seconds RetCode: 1 Status: ERROR CheckDir: midasHLA.Rcheck Warnings: NA