Package: midasHLA Version: 1.2.0 Command: /Library/Frameworks/R.framework/Resources/bin/R CMD build --keep-empty-dirs --no-resave-data --no-build-vignettes --no-manual midasHLA StartedAt: 2022-04-09 08:01:45 -0400 (Sat, 09 Apr 2022) EndedAt: 2022-04-09 08:02:12 -0400 (Sat, 09 Apr 2022) EllapsedTime: 27.2 seconds RetCode: 0 Status: OK PackageFile: midasHLA_1.2.0.tar.gz PackageFileSize: 1.673 MiB