Package: biodbHmdb Version: 1.0.3 Command: /home/biocbuild/bbs-3.14-bioc/R/bin/R CMD check --test-dir=longtests --no-stop-on-test-error --no-codoc --no-examples --no-manual --ignore-vignettes --check-subdirs=no biodbHmdb_1.0.3.tar.gz StartedAt: 2022-04-09 08:03:09 -0400 (Sat, 09 Apr 2022) EndedAt: 2022-04-09 08:12:12 -0400 (Sat, 09 Apr 2022) EllapsedTime: 542.9 seconds RetCode: 0 Status: OK CheckDir: biodbHmdb.Rcheck Warnings: 0