Package: biodbHmdb Version: 1.0.3 Command: /Library/Frameworks/R.framework/Resources/bin/R CMD build --keep-empty-dirs --no-resave-data --no-build-vignettes --no-manual biodbHmdb StartedAt: 2022-04-09 08:00:50 -0400 (Sat, 09 Apr 2022) EndedAt: 2022-04-09 08:01:07 -0400 (Sat, 09 Apr 2022) EllapsedTime: 16.9 seconds RetCode: 0 Status: OK PackageFile: biodbHmdb_1.0.3.tar.gz PackageFileSize: 113.8 KiB