Package: biodb Version: 1.2.2 Command: /home/biocbuild/bbs-3.14-bioc/R/bin/R CMD check --test-dir=longtests --no-stop-on-test-error --no-codoc --no-examples --no-manual --ignore-vignettes --check-subdirs=no biodb_1.2.2.tar.gz StartedAt: 2022-04-09 08:00:14 -0400 (Sat, 09 Apr 2022) EndedAt: 2022-04-09 08:03:25 -0400 (Sat, 09 Apr 2022) EllapsedTime: 190.9 seconds RetCode: 0 Status: OK CheckDir: biodb.Rcheck Warnings: 0