Package: beachmat Version: 2.10.0 Command: /home/biocbuild/bbs-3.14-bioc/R/bin/R CMD check --test-dir=longtests --no-stop-on-test-error --no-codoc --no-examples --no-manual --ignore-vignettes --check-subdirs=no beachmat_2.10.0.tar.gz StartedAt: 2022-04-09 08:00:14 -0400 (Sat, 09 Apr 2022) EndedAt: 2022-04-09 08:12:15 -0400 (Sat, 09 Apr 2022) EllapsedTime: 721.1 seconds RetCode: 1 Status: ERROR CheckDir: beachmat.Rcheck Warnings: NA