Package: beachmat Version: 2.10.0 Command: /home/biocbuild/bbs-3.14-bioc/R/bin/R CMD build --keep-empty-dirs --no-resave-data --no-build-vignettes --no-manual beachmat StartedAt: 2022-04-09 08:00:07 -0400 (Sat, 09 Apr 2022) EndedAt: 2022-04-09 08:00:09 -0400 (Sat, 09 Apr 2022) EllapsedTime: 1.6 seconds RetCode: 0 Status: OK PackageFile: beachmat_2.10.0.tar.gz PackageFileSize: 95.6 KiB