Package: autonomics Version: 1.2.0 Command: /Library/Frameworks/R.framework/Resources/bin/R CMD check --test-dir=longtests --no-stop-on-test-error --no-codoc --no-examples --no-manual --ignore-vignettes --check-subdirs=no autonomics_1.2.0.tar.gz StartedAt: 2022-04-09 08:02:36 -0400 (Sat, 09 Apr 2022) EndedAt: 2022-04-09 08:05:18 -0400 (Sat, 09 Apr 2022) EllapsedTime: 162.3 seconds RetCode: 1 Status: ERROR CheckDir: autonomics.Rcheck Warnings: NA