Package: autonomics Version: 1.2.0 Command: /Library/Frameworks/R.framework/Resources/bin/R CMD build --keep-empty-dirs --no-resave-data --no-build-vignettes --no-manual autonomics StartedAt: 2022-04-09 08:00:50 -0400 (Sat, 09 Apr 2022) EndedAt: 2022-04-09 08:01:18 -0400 (Sat, 09 Apr 2022) EllapsedTime: 27.8 seconds RetCode: 0 Status: OK PackageFile: autonomics_1.2.0.tar.gz PackageFileSize: 102.6 KiB