Package: zlibbioc Version: 1.40.0 Command: C:\cygwin\bin\curl.exe -O http://155.52.207.166/BBS/3.14/bioc/src/contrib/zlibbioc_1.40.0.tar.gz && rm -rf zlibbioc.buildbin-libdir && mkdir zlibbioc.buildbin-libdir && C:\Users\biocbuild\bbs-3.14-bioc\R\bin\R.exe CMD INSTALL --merge-multiarch --build --library=zlibbioc.buildbin-libdir zlibbioc_1.40.0.tar.gz && C:\Users\biocbuild\bbs-3.14-bioc\R\bin\R.exe CMD INSTALL zlibbioc_1.40.0.zip && rm zlibbioc_1.40.0.tar.gz zlibbioc_1.40.0.zip StartedAt: 2022-04-12 03:56:44 -0400 (Tue, 12 Apr 2022) EndedAt: 2022-04-12 03:59:16 -0400 (Tue, 12 Apr 2022) EllapsedTime: 152.5 seconds RetCode: 0 Status: OK