Package: zlibbioc Version: 1.40.0 Command: chmod a+r zlibbioc -R && C:\Users\biocbuild\bbs-3.14-bioc\R\bin\R.exe CMD build --keep-empty-dirs --no-resave-data zlibbioc StartedAt: 2022-04-12 15:15:24 -0400 (Tue, 12 Apr 2022) EndedAt: 2022-04-12 15:15:55 -0400 (Tue, 12 Apr 2022) EllapsedTime: 30.8 seconds RetCode: 0 Status: OK PackageFile: zlibbioc_1.40.0.tar.gz PackageFileSize: 251.2 KiB