Package: widgetTools Version: 1.72.0 Command: /Library/Frameworks/R.framework/Resources/bin/R CMD INSTALL widgetTools StartedAt: 2022-04-12 03:13:51 -0400 (Tue, 12 Apr 2022) EndedAt: 2022-04-12 03:14:02 -0400 (Tue, 12 Apr 2022) EllapsedTime: 10.4 seconds RetCode: 0 Status: OK