git_url: https://git.bioconductor.org/packages/vtpnet git_branch: RELEASE_3_14 git_last_commit: 5fba459 git_last_commit_date: 2021-10-26 12:08:18 -0400 (Tue, 26 Oct 2021) Package: vtpnet Version: 0.34.0 Maintainer: VJ Carey MaintainerEmail: stvjc at channing.harvard.edu