Package: vbmp Version: 1.62.0 Command: /Library/Frameworks/R.framework/Resources/bin/R CMD check --install=check:vbmp.install-out.txt --library=/Library/Frameworks/R.framework/Resources/library --no-vignettes --timings vbmp_1.62.0.tar.gz StartedAt: 2022-04-12 19:52:34 -0400 (Tue, 12 Apr 2022) EndedAt: 2022-04-12 19:53:07 -0400 (Tue, 12 Apr 2022) EllapsedTime: 33.0 seconds RetCode: 0 Status: OK CheckDir: vbmp.Rcheck Warnings: 0