Package: twoddpcr Version: 1.18.0 Command: C:\Users\biocbuild\bbs-3.14-bioc\R\bin\R.exe CMD check --force-multiarch --install=check:twoddpcr.install-out.txt --library=C:\Users\biocbuild\bbs-3.14-bioc\R\library --no-vignettes --timings twoddpcr_1.18.0.tar.gz StartedAt: 2022-04-13 04:31:33 -0400 (Wed, 13 Apr 2022) EndedAt: 2022-04-13 04:35:46 -0400 (Wed, 13 Apr 2022) EllapsedTime: 252.4 seconds RetCode: 0 Status: OK CheckDir: twoddpcr.Rcheck Warnings: 0