Package: twoddpcr Version: 1.18.0 Command: /Library/Frameworks/R.framework/Resources/bin/R CMD build --keep-empty-dirs --no-resave-data twoddpcr StartedAt: 2022-04-12 09:32:20 -0400 (Tue, 12 Apr 2022) EndedAt: 2022-04-12 09:36:52 -0400 (Tue, 12 Apr 2022) EllapsedTime: 271.7 seconds RetCode: 0 Status: OK PackageFile: twoddpcr_1.18.0.tar.gz PackageFileSize: 3.741 MiB