Package: tracktables Version: 1.28.0 Command: chmod a+r tracktables -R && C:\Users\biocbuild\bbs-3.14-bioc\R\bin\R.exe CMD build --keep-empty-dirs --no-resave-data tracktables StartedAt: 2022-04-12 14:58:14 -0400 (Tue, 12 Apr 2022) EndedAt: 2022-04-12 14:58:47 -0400 (Tue, 12 Apr 2022) EllapsedTime: 32.7 seconds RetCode: 0 Status: OK PackageFile: tracktables_1.28.0.tar.gz PackageFileSize: 346.9 KiB