Package: tRNA Version: 1.12.0 Command: /home/biocbuild/bbs-3.14-bioc/R/bin/R CMD build --keep-empty-dirs --no-resave-data tRNA StartedAt: 2022-04-12 06:09:05 -0400 (Tue, 12 Apr 2022) EndedAt: 2022-04-12 06:11:17 -0400 (Tue, 12 Apr 2022) EllapsedTime: 131.5 seconds RetCode: 0 Status: OK PackageFile: tRNA_1.12.0.tar.gz PackageFileSize: 1.211 MiB