Package: tLOH Version: 1.2.0 Command: rm -rf tLOH.buildbin-libdir && mkdir tLOH.buildbin-libdir && /Users/biocbuild/BBS/utils/build-universal.sh tLOH_1.2.0.tar.gz /Library/Frameworks/R.framework/Resources/bin/R tLOH.buildbin-libdir StartedAt: 2022-04-12 21:36:58 -0400 (Tue, 12 Apr 2022) EndedAt: 2022-04-12 21:38:06 -0400 (Tue, 12 Apr 2022) EllapsedTime: 68.0 seconds RetCode: 0 Status: OK PackageFile: tLOH_1.2.0.tgz PackageFileSize: 2.252 MiB