Package: synapter Version: 2.18.0 Command: rm -rf synapter.buildbin-libdir && mkdir synapter.buildbin-libdir && /Users/biocbuild/BBS/utils/build-universal.sh synapter_2.18.0.tar.gz /Library/Frameworks/R.framework/Resources/bin/R synapter.buildbin-libdir StartedAt: 2022-04-12 21:35:10 -0400 (Tue, 12 Apr 2022) EndedAt: 2022-04-12 21:36:25 -0400 (Tue, 12 Apr 2022) EllapsedTime: 75.0 seconds RetCode: 0 Status: OK PackageFile: synapter_2.18.0.tgz PackageFileSize: 4.813 MiB