git_url: https://git.bioconductor.org/packages/struct git_branch: RELEASE_3_14 git_last_commit: 65817c3 git_last_commit_date: 2021-10-26 12:57:08 -0400 (Tue, 26 Oct 2021) Package: struct Version: 1.6.0 Maintainer: Gavin Rhys Lloyd MaintainerEmail: g.r.lloyd at bham.ac.uk