Package: ssize Version: 1.68.0 Command: /home/biocbuild/bbs-3.14-bioc/R/bin/R CMD build --keep-empty-dirs --no-resave-data ssize StartedAt: 2022-04-12 06:02:18 -0400 (Tue, 12 Apr 2022) EndedAt: 2022-04-12 06:02:24 -0400 (Tue, 12 Apr 2022) EllapsedTime: 6.3 seconds RetCode: 0 Status: OK PackageFile: ssize_1.68.0.tar.gz PackageFileSize: 398.7 KiB