Package: sparsenetgls Version: 1.12.0 Command: /Library/Frameworks/R.framework/Resources/bin/R CMD build --keep-empty-dirs --no-resave-data sparsenetgls StartedAt: 2022-04-12 09:08:33 -0400 (Tue, 12 Apr 2022) EndedAt: 2022-04-12 09:12:07 -0400 (Tue, 12 Apr 2022) EllapsedTime: 213.5 seconds RetCode: 0 Status: OK PackageFile: sparsenetgls_1.12.0.tar.gz PackageFileSize: 556.1 KiB