Package: soGGi Version: 1.26.0 Command: rm -rf soGGi.buildbin-libdir && mkdir soGGi.buildbin-libdir && /Users/biocbuild/BBS/utils/build-universal.sh soGGi_1.26.0.tar.gz /Library/Frameworks/R.framework/Resources/bin/R soGGi.buildbin-libdir StartedAt: 2022-04-12 21:32:10 -0400 (Tue, 12 Apr 2022) EndedAt: 2022-04-12 21:33:20 -0400 (Tue, 12 Apr 2022) EllapsedTime: 70.2 seconds RetCode: 0 Status: OK PackageFile: soGGi_1.26.0.tgz PackageFileSize: 3.64 MiB