Package: seqsetvis Version: 1.14.4 Command: rm -rf seqsetvis.buildbin-libdir && mkdir seqsetvis.buildbin-libdir && C:\Users\biocbuild\bbs-3.14-bioc\R\bin\R.exe CMD INSTALL --merge-multiarch --build --library=seqsetvis.buildbin-libdir seqsetvis_1.14.4.tar.gz StartedAt: 2022-04-13 07:07:37 -0400 (Wed, 13 Apr 2022) EndedAt: 2022-04-13 07:08:41 -0400 (Wed, 13 Apr 2022) EllapsedTime: 64.1 seconds RetCode: 0 Status: OK PackageFile: seqsetvis_1.14.4.zip PackageFileSize: 1.594 MiB