Package: seqsetvis Version: 1.14.4 Command: /home/biocbuild/bbs-3.14-bioc/R/bin/R CMD INSTALL seqsetvis StartedAt: 2022-04-12 03:43:14 -0400 (Tue, 12 Apr 2022) EndedAt: 2022-04-12 03:43:45 -0400 (Tue, 12 Apr 2022) EllapsedTime: 31.2 seconds RetCode: 0 Status: OK