Package: scran Version: 1.22.1 Command: /Library/Frameworks/R.framework/Resources/bin/R CMD build --keep-empty-dirs --no-resave-data scran StartedAt: 2022-04-12 08:46:12 -0400 (Tue, 12 Apr 2022) EndedAt: 2022-04-12 08:54:45 -0400 (Tue, 12 Apr 2022) EllapsedTime: 512.4 seconds RetCode: 0 Status: OK PackageFile: scran_1.22.1.tar.gz PackageFileSize: 1.69 MiB