Package: scoreInvHap Version: 1.16.0 Command: chmod a+r scoreInvHap -R && C:\Users\biocbuild\bbs-3.14-bioc\R\bin\R.exe CMD build --keep-empty-dirs --no-resave-data scoreInvHap StartedAt: 2022-04-12 14:04:13 -0400 (Tue, 12 Apr 2022) EndedAt: 2022-04-12 14:05:35 -0400 (Tue, 12 Apr 2022) EllapsedTime: 81.7 seconds RetCode: 0 Status: OK PackageFile: scoreInvHap_1.16.0.tar.gz PackageFileSize: 1.005 MiB