Package: scanMiRApp Version: 1.0.0 Command: /home/biocbuild/bbs-3.14-bioc/R/bin/R CMD build --keep-empty-dirs --no-resave-data scanMiRApp StartedAt: 2022-04-12 05:47:30 -0400 (Tue, 12 Apr 2022) EndedAt: 2022-04-12 05:48:28 -0400 (Tue, 12 Apr 2022) EllapsedTime: 57.6 seconds RetCode: 0 Status: OK PackageFile: scanMiRApp_1.0.0.tar.gz PackageFileSize: 498.9 KiB