Package: scRepertoire Version: 1.4.0 Command: chmod a+r scRepertoire -R && C:\Users\biocbuild\bbs-3.14-bioc\R\bin\R.exe CMD build --keep-empty-dirs --no-resave-data scRepertoire StartedAt: 2022-04-12 14:07:25 -0400 (Tue, 12 Apr 2022) EndedAt: 2022-04-12 14:11:15 -0400 (Tue, 12 Apr 2022) EllapsedTime: 229.3 seconds RetCode: 0 Status: OK PackageFile: scRepertoire_1.4.0.tar.gz PackageFileSize: 4.603 MiB