Package: scPipe Version: 1.16.1 Command: set _R_CHECK_FORCE_SUGGESTS_=0&& C:\Users\biocbuild\bbs-3.14-bioc\R\bin\R.exe CMD check --force-multiarch --install=check:scPipe.install-out.txt --library=C:\Users\biocbuild\bbs-3.14-bioc\R\library --no-vignettes --timings scPipe_1.16.1.tar.gz StartedAt: 2022-04-13 02:33:31 -0400 (Wed, 13 Apr 2022) EndedAt: 2022-04-13 02:40:19 -0400 (Wed, 13 Apr 2022) EllapsedTime: 408.3 seconds RetCode: 0 Status: OK CheckDir: scPipe.Rcheck Warnings: 0