Package: scClassify Version: 1.6.0 Command: chmod a+r scClassify -R && C:\Users\biocbuild\bbs-3.14-bioc\R\bin\R.exe CMD build --keep-empty-dirs --no-resave-data scClassify StartedAt: 2022-04-12 13:59:06 -0400 (Tue, 12 Apr 2022) EndedAt: 2022-04-12 14:01:19 -0400 (Tue, 12 Apr 2022) EllapsedTime: 132.6 seconds RetCode: 0 Status: OK PackageFile: scClassify_1.6.0.tar.gz PackageFileSize: 2.839 MiB